BEGIN:VCALENDAR
VERSION:2.0
PRODID:-//Dean Tile - ECPv6.15.15//NONSGML v1.0//EN
CALSCALE:GREGORIAN
METHOD:PUBLISH
X-ORIGINAL-URL:https://deantile.com
X-WR-CALDESC:Events for Dean Tile
REFRESH-INTERVAL;VALUE=DURATION:PT1H
X-Robots-Tag:noindex
X-PUBLISHED-TTL:PT1H
BEGIN:VTIMEZONE
TZID:America/Los_Angeles
BEGIN:DAYLIGHT
TZOFFSETFROM:-0800
TZOFFSETTO:-0700
TZNAME:PDT
DTSTART:20240310T100000
END:DAYLIGHT
BEGIN:STANDARD
TZOFFSETFROM:-0700
TZOFFSETTO:-0800
TZNAME:PST
DTSTART:20241103T090000
END:STANDARD
BEGIN:DAYLIGHT
TZOFFSETFROM:-0800
TZOFFSETTO:-0700
TZNAME:PDT
DTSTART:20250309T100000
END:DAYLIGHT
BEGIN:STANDARD
TZOFFSETFROM:-0700
TZOFFSETTO:-0800
TZNAME:PST
DTSTART:20251102T090000
END:STANDARD
BEGIN:DAYLIGHT
TZOFFSETFROM:-0800
TZOFFSETTO:-0700
TZNAME:PDT
DTSTART:20260308T100000
END:DAYLIGHT
BEGIN:STANDARD
TZOFFSETFROM:-0700
TZOFFSETTO:-0800
TZNAME:PST
DTSTART:20261101T090000
END:STANDARD
END:VTIMEZONE
BEGIN:VEVENT
DTSTART;TZID=America/Los_Angeles:20250915T080000
DTEND;TZID=America/Los_Angeles:20250915T170000
DTSTAMP:20260420T032126
CREATED:20250811T053925Z
LAST-MODIFIED:20250811T054743Z
UID:91-1757923200-1757955600@deantile.com
SUMMARY:Advanced Mold Making
DESCRIPTION:
URL:https://deantile.com/event/advanced-mold-making/
CATEGORIES:Classes,Mold Making
END:VEVENT
BEGIN:VEVENT
DTSTART;TZID=America/Los_Angeles:20250901T090000
DTEND;TZID=America/Los_Angeles:20250901T170000
DTSTAMP:20260420T032126
CREATED:20250811T053852Z
LAST-MODIFIED:20250811T054339Z
UID:89-1756717200-1756746000@deantile.com
SUMMARY:Intermediate Mold Making
DESCRIPTION:
URL:https://deantile.com/event/intermediate-mold-making/
CATEGORIES:Mold Making
END:VEVENT
BEGIN:VEVENT
DTSTART;TZID=America/Los_Angeles:20250825T090000
DTEND;TZID=America/Los_Angeles:20250825T170000
DTSTAMP:20260420T032126
CREATED:20250811T053800Z
LAST-MODIFIED:20250811T054359Z
UID:87-1756112400-1756141200@deantile.com
SUMMARY:Beginning Mold Making
DESCRIPTION:
URL:https://deantile.com/event/beginning-mold-making/
CATEGORIES:Mold Making
END:VEVENT
END:VCALENDAR